BEGIN:VCALENDAR
VERSION:2.0
PRODID:-//Nux ltd.//NONSGML CityBee//EN
CALSCALE:GREGORIAN
METHOD:REQUEST
BEGIN:VALARM
TRIGGER:-PT24H
DURATION:PT15M
ACTION:DISPLAY
DESCRIPTION;LANGUAGE=cs:Komorní koncert: To nejlepší z muzikálů, To nejlepší z muzikálů – vystoupení mladých zpěváků z Konzervatoře Jaroslava Ježka se slavnými muzikálovými písněmi.
END:VALARM
BEGIN:VEVENT
UID:dc41e972-91fc-4f10-bbc5-bcfe6213a783
DESCRIPTION;LANGUAGE=cs:To nejlepší z muzikálů – vystoupení mladých zpěváků z Konzervatoře Jaroslava Ježka se slavnými muzikálovými písněmi.
LOCATION;LANGUAGE=cs:Moskevská, Vršovický zámek, Praha 10
SUMMARY;LANGUAGE=cs:Komorní koncert: To nejlepší z muzikálů
ORGANIZER;CN="Městská část Praha 10":MAILTO:info@praha10.cz
STATUS:ACCEPTED
SEQUENCE:0
TRANSP:OPAQUE
CLASS:PUBLIC
DTSTART:20260423T160000Z
DTEND:20260423T170000Z
DTSTAMP:20260220T155855Z
LAST-MODIFIED:20260220T155855Z
END:VEVENT
END:VCALENDAR