BEGIN:VCALENDAR
VERSION:2.0
PRODID:-//Nux ltd.//NONSGML CityBee//EN
CALSCALE:GREGORIAN
METHOD:REQUEST
BEGIN:VALARM
TRIGGER:-PT24H
DURATION:PT15M
ACTION:DISPLAY
DESCRIPTION;LANGUAGE=cs:HIT BY NEWS | Výstava, Výstava HIT BY NEWS přináší pronikavý a kritický pohled na fascinující téma společnosti, která byla, je a nadále bude utvářena médii.
END:VALARM
BEGIN:VEVENT
UID:4f5de43b-1aab-4c4e-b825-742521104890
DESCRIPTION;LANGUAGE=cs:Výstava HIT BY NEWS přináší pronikavý a kritický pohled na fascinující téma společnosti, která byla, je a nadále bude utvářena médii.
LOCATION;LANGUAGE=cs:Poupětova 793/1, Praha 7
SUMMARY;LANGUAGE=cs:HIT BY NEWS | Výstava
ORGANIZER;CN="Centrum současného umění DOX":MAILTO:info@dox.cz
STATUS:ACCEPTED
SEQUENCE:0
TRANSP:OPAQUE
CLASS:PUBLIC
DTSTART:20260306T100000Z
DTEND:20260823T170000Z
DTSTAMP:20260226T092346Z
LAST-MODIFIED:20260226T092346Z
END:VEVENT
END:VCALENDAR