BEGIN:VCALENDAR
VERSION:2.0
PRODID:-//Nux ltd.//NONSGML CityBee//EN
CALSCALE:GREGORIAN
METHOD:REQUEST
BEGIN:VALARM
TRIGGER:-PT24H
DURATION:PT15M
ACTION:DISPLAY
DESCRIPTION;LANGUAGE=cs:Dary pro prezidenta z daleka i blízka II, Výstava &#34;Dary pro prezidenta z daleka i blízka&#34; nabízí jedinečný pohled na roli darů ve světě diplomacie i místních tradic.
END:VALARM
BEGIN:VEVENT
UID:c1a7567d-bfd6-485e-b65f-1ec345a74168
DESCRIPTION;LANGUAGE=cs:Výstava &#34;Dary pro prezidenta z daleka i blízka&#34; nabízí jedinečný pohled na roli darů ve světě diplomacie i místních tradic.
LOCATION;LANGUAGE=cs:Pražský hrad, Praha 1
SUMMARY;LANGUAGE=cs:Dary pro prezidenta z daleka i blízka II
ORGANIZER;CN="Pražský hrad":MAILTO:hana.burianova@hrad.cz
STATUS:ACCEPTED
SEQUENCE:0
TRANSP:OPAQUE
CLASS:PUBLIC
DTSTART:20260131T080000Z
DTEND:20261231T150000Z
DTSTAMP:20260102T131804Z
LAST-MODIFIED:20260102T131804Z
END:VEVENT
END:VCALENDAR