BEGIN:VCALENDAR
VERSION:2.0
PRODID:-//Nux ltd.//NONSGML CityBee//EN
CALSCALE:GREGORIAN
METHOD:REQUEST
BEGIN:VALARM
TRIGGER:-PT24H
DURATION:PT15M
ACTION:DISPLAY
DESCRIPTION;LANGUAGE=cs:UMĚNÍ V KINĚ 35 | Já, Claude Monet, Příběh Clauda Moneta, jednoho z nejslavnějších umělců všech dob, vyprávěný jeho vlastními slovy.
END:VALARM
BEGIN:VEVENT
UID:6cedbe95-ed81-4ac5-b083-93b9c2bec4b6
DESCRIPTION;LANGUAGE=cs:Příběh Clauda Moneta, jednoho z nejslavnějších umělců všech dob, vyprávěný jeho vlastními slovy.
LOCATION;LANGUAGE=cs:Štěpánská 644/35, Praha 1
SUMMARY;LANGUAGE=cs:UMĚNÍ V KINĚ 35 | Já, Claude Monet
ORGANIZER;CN="":MAILTO:kino35@ifp.cz
STATUS:ACCEPTED
SEQUENCE:0
TRANSP:OPAQUE
CLASS:PUBLIC
DTSTART:20251020T160000Z
DTEND:20251020T172700Z
DTSTAMP:20260425T161002Z
LAST-MODIFIED:20260425T161002Z
END:VEVENT
END:VCALENDAR