BEGIN:VCALENDAR
VERSION:2.0
PRODID:-//Nux ltd.//NONSGML CityBee//EN
CALSCALE:GREGORIAN
METHOD:REQUEST
BEGIN:VALARM
TRIGGER:-PT24H
DURATION:PT15M
ACTION:DISPLAY
DESCRIPTION;LANGUAGE=cs:20. Robotický den, Jubilejní dvacátý ročník největší soutěžě amatérských robotů v České republice.
END:VALARM
BEGIN:VEVENT
UID:99e4f5c2-405a-407f-b05f-046430846039
DESCRIPTION;LANGUAGE=cs:Jubilejní dvacátý ročník největší soutěžě amatérských robotů v České republice.
LOCATION;LANGUAGE=cs:5. května 65, Praha 4
SUMMARY;LANGUAGE=cs:20. Robotický den
ORGANIZER;CN="Matematicko-fyzikální fakulta UK":MAILTO:
STATUS:ACCEPTED
SEQUENCE:0
TRANSP:OPAQUE
CLASS:PUBLIC
DTSTART:20250608T070000Z
DTEND:20250608T150000Z
DTSTAMP:20260425T162002Z
LAST-MODIFIED:20260425T162002Z
END:VEVENT
END:VCALENDAR