BEGIN:VCALENDAR
VERSION:2.0
PRODID:-//Nux ltd.//NONSGML CityBee//EN
CALSCALE:GREGORIAN
METHOD:REQUEST
BEGIN:VALARM
TRIGGER:-PT24H
DURATION:PT15M
ACTION:DISPLAY
DESCRIPTION;LANGUAGE=cs:Burleska v Centru Prahy, Tato noc vás přenese do éry starého Hollywoodského glamouru, exotických tanečnic a riskatních kabaretů.
END:VALARM
BEGIN:VEVENT
UID:fa9534af-d611-43a9-bb5f-3d1f54b4a8af
DESCRIPTION;LANGUAGE=cs:Tato noc vás přenese do éry starého Hollywoodského glamouru, exotických tanečnic a riskatních kabaretů.
LOCATION;LANGUAGE=cs:Klubovna 2. Patro, Praha 1
SUMMARY;LANGUAGE=cs:Burleska v Centru Prahy
ORGANIZER;CN="":MAILTO:burleska@angelinaangelic.com
STATUS:ACCEPTED
SEQUENCE:0
TRANSP:OPAQUE
CLASS:PUBLIC
DTSTART:20241018T190000Z
DTEND:20241018T220000Z
DTSTAMP:20260425T160002Z
LAST-MODIFIED:20260425T160002Z
END:VEVENT
END:VCALENDAR