BEGIN:VCALENDAR
VERSION:2.0
PRODID:-//Nux ltd.//NONSGML CityBee//EN
CALSCALE:GREGORIAN
METHOD:REQUEST
BEGIN:VALARM
TRIGGER:-PT24H
DURATION:PT15M
ACTION:DISPLAY
DESCRIPTION;LANGUAGE=cs:Letní kino: Želvy ninja - mutantí chaos, Projekce snímku Želvy ninja - mutantí chaos v letním Paramount MAX kině.
END:VALARM
BEGIN:VEVENT
UID:61630048-8243-4a96-8920-ee0f91d8bbb0
DESCRIPTION;LANGUAGE=cs:Projekce snímku Želvy ninja - mutantí chaos v letním Paramount MAX kině.
LOCATION;LANGUAGE=cs:Chlumecká 765/6, Praha 9
SUMMARY;LANGUAGE=cs:Letní kino: Želvy ninja - mutantí chaos
ORGANIZER;CN="Centrum Černý Most":MAILTO:infoccm@unibail-rodamco.com
STATUS:ACCEPTED
SEQUENCE:0
TRANSP:OPAQUE
CLASS:PUBLIC
DTSTART:20240829T190000Z
DTEND:20240829T210000Z
DTSTAMP:20260425T162002Z
LAST-MODIFIED:20260425T162002Z
END:VEVENT
END:VCALENDAR