BEGIN:VCALENDAR
VERSION:2.0
PRODID:-//Nux ltd.//NONSGML CityBee//EN
CALSCALE:GREGORIAN
METHOD:REQUEST
BEGIN:VALARM
TRIGGER:-PT24H
DURATION:PT15M
ACTION:DISPLAY
DESCRIPTION;LANGUAGE=cs:Oktagon 58: Vémola versus Végh 2, Odveta století na fotbalovém stadionu v Praze.
END:VALARM
BEGIN:VEVENT
UID:c6c26947-8b8d-44fe-98c8-f1e0f8e6f4b0
DESCRIPTION;LANGUAGE=cs:Odveta století na fotbalovém stadionu v Praze.
LOCATION;LANGUAGE=cs:U Slavie 1540/2a, Praha 10
SUMMARY;LANGUAGE=cs:Oktagon 58: Vémola versus Végh 2
ORGANIZER;CN="Fortuna Arena":MAILTO:
STATUS:ACCEPTED
SEQUENCE:0
TRANSP:OPAQUE
CLASS:PUBLIC
DTSTART:20240608T160000Z
DTEND:20240608T180000Z
DTSTAMP:20260425T163501Z
LAST-MODIFIED:20260425T163501Z
END:VEVENT
END:VCALENDAR