BEGIN:VCALENDAR
VERSION:2.0
PRODID:-//Nux ltd.//NONSGML CityBee//EN
CALSCALE:GREGORIAN
METHOD:REQUEST
BEGIN:VALARM
TRIGGER:-PT24H
DURATION:PT15M
ACTION:DISPLAY
DESCRIPTION;LANGUAGE=cs:Prague Open Air 2024, Prague Open Air přinese od května do září přes padesátku koncertů v branických ledárnách a na Občanské plovárně.
END:VALARM
BEGIN:VEVENT
UID:d094a04e-5b5e-4076-9e42-358994515a1a
DESCRIPTION;LANGUAGE=cs:Prague Open Air přinese od května do září přes padesátku koncertů v branických ledárnách a na Občanské plovárně.
LOCATION;LANGUAGE=cs:Praha, Praha
SUMMARY;LANGUAGE=cs:Prague Open Air 2024
ORGANIZER;CN="Ledárny Braník":MAILTO:info@ledarnyopenair.cz
STATUS:ACCEPTED
SEQUENCE:0
TRANSP:OPAQUE
CLASS:PUBLIC
DTSTART:20240528T160000Z
DTEND:20240912T200000Z
DTSTAMP:20260425T161502Z
LAST-MODIFIED:20260425T161502Z
END:VEVENT
END:VCALENDAR