BEGIN:VCALENDAR
VERSION:2.0
PRODID:-//Nux ltd.//NONSGML CityBee//EN
CALSCALE:GREGORIAN
METHOD:REQUEST
BEGIN:VALARM
TRIGGER:-PT24H
DURATION:PT15M
ACTION:DISPLAY
DESCRIPTION;LANGUAGE=cs:Superfinále florbalu 2024, Jedno utkání rozhodujne o držitelích titulů Mistr České republiky ve florbale mužů a žen.
END:VALARM
BEGIN:VEVENT
UID:f0a2ef64-ca36-440a-bea6-661af821b9bb
DESCRIPTION;LANGUAGE=cs:Jedno utkání rozhodujne o držitelích titulů Mistr České republiky ve florbale mužů a žen.
LOCATION;LANGUAGE=cs:Českomoravská 17, Praha 9
SUMMARY;LANGUAGE=cs:Superfinále florbalu 2024
ORGANIZER;CN="O2 arena":MAILTO:
STATUS:ACCEPTED
SEQUENCE:0
TRANSP:OPAQUE
CLASS:PUBLIC
DTSTART:20240414T080000Z
DTEND:20240414T170000Z
DTSTAMP:20260420T142501Z
LAST-MODIFIED:20260420T142501Z
END:VEVENT
END:VCALENDAR