BEGIN:VCALENDAR
VERSION:2.0
PRODID:-//Nux ltd.//NONSGML CityBee//EN
CALSCALE:GREGORIAN
METHOD:REQUEST
BEGIN:VALARM
TRIGGER:-PT24H
DURATION:PT15M
ACTION:DISPLAY
DESCRIPTION;LANGUAGE=cs:Nedělní bufetový brunch, Vychutnejte si, každou neděli, bufetový brunch z lokálních surovin za doprovodu živé hudby.
END:VALARM
BEGIN:VEVENT
UID:65a6597a-9b4a-4384-a4e8-04ed0c46b19a
DESCRIPTION;LANGUAGE=cs:Vychutnejte si, každou neděli, bufetový brunch z lokálních surovin za doprovodu živé hudby.
LOCATION;LANGUAGE=cs:V Celnici 1028/8, Praha
SUMMARY;LANGUAGE=cs:Nedělní bufetový brunch
ORGANIZER;CN="":MAILTO:prague.marriott@marriotthotels.com
STATUS:ACCEPTED
SEQUENCE:0
TRANSP:OPAQUE
CLASS:PUBLIC
DTSTART:20231015T103000Z
DTEND:20231015T140000Z
DTSTAMP:20260425T161502Z
LAST-MODIFIED:20260425T161502Z
END:VEVENT
END:VCALENDAR