BEGIN:VCALENDAR
VERSION:2.0
PRODID:-//Nux ltd.//NONSGML CityBee//EN
CALSCALE:GREGORIAN
METHOD:REQUEST
BEGIN:VALARM
TRIGGER:-PT24H
DURATION:PT15M
ACTION:DISPLAY
DESCRIPTION;LANGUAGE=cs:Beer Garden Karlín - pivní zahrádka, Vítejte v Beer Garden Karlín na novém slunném místě na našich terasách s výhledem na Vltavu.
END:VALARM
BEGIN:VEVENT
UID:6eb10d4b-81ce-4884-8465-d22b368a6a8d
DESCRIPTION;LANGUAGE=cs:Vítejte v Beer Garden Karlín na novém slunném místě na našich terasách s výhledem na Vltavu.
LOCATION;LANGUAGE=cs:Pobřežní 311/1, Praha 8
SUMMARY;LANGUAGE=cs:Beer Garden Karlín - pivní zahrádka
ORGANIZER;CN="":MAILTO:info@beergardenkarlin.cz
STATUS:ACCEPTED
SEQUENCE:0
TRANSP:OPAQUE
CLASS:PUBLIC
DTSTART:20220606T140000Z
DTEND:20220831T200000Z
DTSTAMP:20260425T160002Z
LAST-MODIFIED:20260425T160002Z
END:VEVENT
END:VCALENDAR