BEGIN:VCALENDAR
VERSION:2.0
PRODID:-//Nux ltd.//NONSGML CityBee//EN
CALSCALE:GREGORIAN
METHOD:REQUEST
BEGIN:VALARM
TRIGGER:-PT24H
DURATION:PT15M
ACTION:DISPLAY
DESCRIPTION;LANGUAGE=cs:Alfons Mucha: Slovanská epopej - online, Rozpohybovaný a ohromujícím způsobem scénickou hudbou podkreslený děj je doprovázen možností spuštění titulků.

END:VALARM
BEGIN:VEVENT
UID:2e7c9452-a4eb-4391-8151-8633441bad5d
DESCRIPTION;LANGUAGE=cs:Rozpohybovaný a ohromujícím způsobem scénickou hudbou podkreslený děj je doprovázen možností spuštění titulků.

LOCATION;LANGUAGE=cs:Radlická 28, Praha
SUMMARY;LANGUAGE=cs:Alfons Mucha: Slovanská epopej - online
ORGANIZER;CN="CityBee podporuje":MAILTO:
STATUS:ACCEPTED
SEQUENCE:0
TRANSP:OPAQUE
CLASS:PUBLIC
DTSTART:20210131T230000Z
DTEND:20210314T225900Z
DTSTAMP:20260424T162501Z
LAST-MODIFIED:20260424T162501Z
END:VEVENT
END:VCALENDAR