BEGIN:VCALENDAR
VERSION:2.0
PRODID:-//Nux ltd.//NONSGML CityBee//EN
CALSCALE:GREGORIAN
METHOD:REQUEST
BEGIN:VALARM
TRIGGER:-PT24H
DURATION:PT15M
ACTION:DISPLAY
DESCRIPTION;LANGUAGE=cs:Rigoletto - živě na ČT art, Novou inscenaci opery Rigoletta nastudovala ve Státní opeře mladá česká režisérka Barbora Horáková Joly.
END:VALARM
BEGIN:VEVENT
UID:fd4aa427-1400-46c3-88eb-d6ccf3f4ab39
DESCRIPTION;LANGUAGE=cs:Novou inscenaci opery Rigoletta nastudovala ve Státní opeře mladá česká režisérka Barbora Horáková Joly.
LOCATION;LANGUAGE=cs:Wilsonova 4, Praha 1
SUMMARY;LANGUAGE=cs:Rigoletto - živě na ČT art
ORGANIZER;CN="Státní opera":MAILTO:info@narodni-divadlo.cz
STATUS:ACCEPTED
SEQUENCE:0
TRANSP:OPAQUE
CLASS:PUBLIC
DTSTART:20210130T190000Z
DTEND:20210130T200500Z
DTSTAMP:20260421T161501Z
LAST-MODIFIED:20260421T161501Z
END:VEVENT
END:VCALENDAR