BEGIN:VCALENDAR
VERSION:2.0
PRODID:-//Nux ltd.//NONSGML CityBee//EN
CALSCALE:GREGORIAN
METHOD:REQUEST
BEGIN:VALARM
TRIGGER:-PT24H
DURATION:PT15M
ACTION:DISPLAY
DESCRIPTION;LANGUAGE=cs:Děti Ráje, Tento nejúspěšnější český muzikál plný hitů Michala Davida slaví 10 let.
END:VALARM
BEGIN:VEVENT
UID:033d2df6-6b42-434f-9b5f-67b8c705a43b
DESCRIPTION;LANGUAGE=cs:Tento nejúspěšnější český muzikál plný hitů Michala Davida slaví 10 let.
LOCATION;LANGUAGE=cs:5. května 65, Praha 4
SUMMARY;LANGUAGE=cs:Děti Ráje
ORGANIZER;CN="Kongresové centrum":MAILTO:info@kcp.cz
STATUS:ACCEPTED
SEQUENCE:0
TRANSP:OPAQUE
CLASS:PUBLIC
DTSTART:20200417T170000Z
DTEND:20200419T200000Z
DTSTAMP:20260425T162002Z
LAST-MODIFIED:20260425T162002Z
END:VEVENT
END:VCALENDAR