BEGIN:VCALENDAR
VERSION:2.0
PRODID:-//Nux ltd.//NONSGML CityBee//EN
CALSCALE:GREGORIAN
METHOD:REQUEST
BEGIN:VALARM
TRIGGER:-PT24H
DURATION:PT15M
ACTION:DISPLAY
DESCRIPTION;LANGUAGE=cs:Rolf De Heer: Charlieho země, Charlie je svérázný, avšak všemi respektovaný starší Aboriginec, který ctí přírodu a zemi svých předků.

END:VALARM
BEGIN:VEVENT
UID:146dbdfa-6da9-4bbb-a1ee-7019b8301c1d
DESCRIPTION;LANGUAGE=cs:Charlie je svérázný, avšak všemi respektovaný starší Aboriginec, který ctí přírodu a zemi svých předků.

LOCATION;LANGUAGE=cs:Bartolomějská 291/11, Praha 1
SUMMARY;LANGUAGE=cs:Rolf De Heer: Charlieho země
ORGANIZER;CN="Kino Ponrepo":MAILTO:ponrepo@nfa.cz
STATUS:ACCEPTED
SEQUENCE:0
TRANSP:OPAQUE
CLASS:PUBLIC
DTSTART:20200210T170000Z
DTEND:20200210T190000Z
DTSTAMP:20260424T160001Z
LAST-MODIFIED:20260424T160001Z
END:VEVENT
END:VCALENDAR